BEGIN:VCALENDAR
VERSION:2.0
PRODID:icalendar-ruby
CALSCALE:GREGORIAN
METHOD:PUBLISH
BEGIN:VTIMEZONE
TZID:Europe/Vienna
BEGIN:DAYLIGHT
DTSTART:20230326T030000
TZOFFSETFROM:+0100
TZOFFSETTO:+0200
RRULE:FREQ=YEARLY;BYDAY=-1SU;BYMONTH=3
TZNAME:CEST
END:DAYLIGHT
BEGIN:STANDARD
DTSTART:20231029T020000
TZOFFSETFROM:+0200
TZOFFSETTO:+0100
RRULE:FREQ=YEARLY;BYDAY=-1SU;BYMONTH=10
TZNAME:CET
END:STANDARD
END:VTIMEZONE
BEGIN:VEVENT
DTSTAMP:20260424T062846Z
UID:1681383600@ist.ac.at
DTSTART:20230413T130000
DTEND:20230413T150000
DESCRIPTION:Speaker: Stevan Gajovic\nhosted by Tim Browning \nAbstract: Let
  f be a random polynomial in Zp[x] of degree n. We determine the density o
 f such polynomials f having exactly r roots in Qp. We also determine the e
 xpected number of roots of monic polynomials f in Zp[x] of degree n\, and\
 , more generally\, the expected number of sets of exactly d elements consi
 sting of roots of such f. We show that these densities are rational functi
 ons in p and discuss the remarkable symmetry phenomenon that occurs and so
 me asymptotic results. This is joint work with Manjul Bhargava\, John Crem
 ona\, and Tom Fisher. 
LOCATION:Heinzel Seminar Room (I21.EG.101)\, Office Building West\, ISTA\, 
 ISTA
ORGANIZER:birgit.oosthuizen-noczil@ist.ac.at 
SUMMARY:Stevan Gajovic: The density of polynomials of degree n over Zp that
  have exactly r roots in Qp
URL:https://talks-calendar.ista.ac.at/events/4093
END:VEVENT
END:VCALENDAR
