BEGIN:VCALENDAR
VERSION:2.0
PRODID:icalendar-ruby
CALSCALE:GREGORIAN
METHOD:PUBLISH
BEGIN:VTIMEZONE
TZID:Europe/Vienna
BEGIN:DAYLIGHT
DTSTART:20230326T030000
TZOFFSETFROM:+0100
TZOFFSETTO:+0200
RRULE:FREQ=YEARLY;BYDAY=-1SU;BYMONTH=3
TZNAME:CEST
END:DAYLIGHT
BEGIN:STANDARD
DTSTART:20231029T020000
TZOFFSETFROM:+0200
TZOFFSETTO:+0100
RRULE:FREQ=YEARLY;BYDAY=-1SU;BYMONTH=10
TZNAME:CET
END:STANDARD
END:VTIMEZONE
BEGIN:VEVENT
DTSTAMP:20260424T220827Z
UID:1681808400@ist.ac.at
DTSTART:20230418T110000
DTEND:20230418T120000
DESCRIPTION:Speaker: Prof. Dr. Salvador Pané i Vidal\nhosted by Maria Ibá
 ñez\nAbstract: We live in a world increasingly surrounded by robots such 
 as robotic surgical systems\, flying drones\, autonomous planetary rovers\
 , and robotic appliances. An emerging family of robotic systems are unteth
 ered micro- and nanorobots. These tiny vehicles can move in fluids by mean
 s of external energy sources such as light\, ultrasound\, magnetic fields 
 or combinations of these. One of the ultimate goals of small-scale robotic
 s is to develop machines that can deliver drugs\, or realize other medical
  missions in confined spaces of the human body. Other applications include
  water remediation or “on-the-fly” chemistry. The recent rapid develop
 ments in small-scale robotics is undeniably related to advances in materia
 l science and manufacturing. However\, while many applications have been d
 emonstrated\, aspects such as complex locomotion\, multifunctionality\, bi
 ocompatibility and biodegradability need to be further investigated for th
 e successful translation of these devices to real applications. To this en
 d\, new material-based concepts and novel fabrication schemes are urgently
  required. This talk will explore various material-based concepts and inno
 vative fabrication techniques to address translational challenges and furt
 her enhance the field of small-scale robotics. 
LOCATION:Sunstone Building - Big Seminar Room B \, ISTA
ORGANIZER:
SUMMARY:Prof. Dr. Salvador Pané i Vidal: Materials for Small-Scale Robotic
 s
URL:https://talks-calendar.ista.ac.at/events/4088
END:VEVENT
END:VCALENDAR
