BEGIN:VCALENDAR
VERSION:2.0
PRODID:icalendar-ruby
CALSCALE:GREGORIAN
METHOD:PUBLISH
BEGIN:VTIMEZONE
TZID:Europe/Vienna
BEGIN:DAYLIGHT
DTSTART:20230326T030000
TZOFFSETFROM:+0100
TZOFFSETTO:+0200
RRULE:FREQ=YEARLY;BYDAY=-1SU;BYMONTH=3
TZNAME:CEST
END:DAYLIGHT
BEGIN:STANDARD
DTSTART:20221030T020000
TZOFFSETFROM:+0200
TZOFFSETTO:+0100
RRULE:FREQ=YEARLY;BYDAY=-1SU;BYMONTH=10
TZNAME:CET
END:STANDARD
END:VTIMEZONE
BEGIN:VEVENT
DTSTAMP:20260424T143116Z
UID:64181281629f7031044841@ist.ac.at
DTSTART:20230324T153000
DTEND:20230324T163000
DESCRIPTION:Speaker: Albert Fathi\nhosted by Kaloshin Group\nAbstract: Weak
  KAM theory originally connected Mather theory of Lagrangian Systems with 
 Viscosity Theory of the solutions of the corresponding hamilton-Jacobi Equ
 ation.We will show that we can recover just from the Ma potential concepts
  like Peierls barrier\, Aubry sets\, viscosity subsolutions and solutions.
  This allows the theory to apply in the more general framework of compact 
 metric spaces.
LOCATION:Heinzel Seminar Room / Office Bldg West (I21.EG.101)\, ISTA
ORGANIZER:cfrancois@ist.ac.at
SUMMARY:Albert Fathi: Weak KAM theory on metric spaces
URL:https://talks-calendar.ista.ac.at/events/4084
END:VEVENT
END:VCALENDAR
