BEGIN:VCALENDAR
VERSION:2.0
PRODID:icalendar-ruby
CALSCALE:GREGORIAN
METHOD:PUBLISH
BEGIN:VTIMEZONE
TZID:Europe/Vienna
BEGIN:DAYLIGHT
DTSTART:20230326T030000
TZOFFSETFROM:+0100
TZOFFSETTO:+0200
RRULE:FREQ=YEARLY;BYDAY=-1SU;BYMONTH=3
TZNAME:CEST
END:DAYLIGHT
BEGIN:STANDARD
DTSTART:20221030T020000
TZOFFSETFROM:+0200
TZOFFSETTO:+0100
RRULE:FREQ=YEARLY;BYDAY=-1SU;BYMONTH=10
TZNAME:CET
END:STANDARD
END:VTIMEZONE
BEGIN:VEVENT
DTSTAMP:20260424T143322Z
UID:1678979700@ist.ac.at
DTSTART:20230316T161500
DTEND:20230316T171500
DESCRIPTION:Speaker: Elliott Lieb\nhosted by Robert Seiringer\nAbstract: I 
 will start with a quick review of the simple equation derived in 1963 to c
 alculate the ground state energy E of a dilute Bose gas with 2-body repuls
 ive interactions. It yielded the famous LHY second order term for E.  Bey
 ond that it has been recently been shown to agree remarkably well with Mon
 te Carlo calculations in 3 dimensions for ALL densities\, revealing what m
 ight be previously unsuspected changes at intermediate density.
LOCATION:ESI Vienna\, Boltzmanngasse 9\, 1090 Vienna\, ISTA
ORGANIZER:birgit.oosthuizen-noczil@ist.ac.at 
SUMMARY:Elliott Lieb: Study of a simple equation that describes  the ground
 -state   energy of a Bose gas at low and high density and in dimensions on
 e\,   two and three
URL:https://talks-calendar.ista.ac.at/events/4035
END:VEVENT
END:VCALENDAR
