BEGIN:VCALENDAR
VERSION:2.0
PRODID:icalendar-ruby
CALSCALE:GREGORIAN
METHOD:PUBLISH
BEGIN:VTIMEZONE
TZID:Europe/Vienna
BEGIN:DAYLIGHT
DTSTART:20230326T030000
TZOFFSETFROM:+0100
TZOFFSETTO:+0200
RRULE:FREQ=YEARLY;BYDAY=-1SU;BYMONTH=3
TZNAME:CEST
END:DAYLIGHT
BEGIN:STANDARD
DTSTART:20231029T020000
TZOFFSETFROM:+0200
TZOFFSETTO:+0100
RRULE:FREQ=YEARLY;BYDAY=-1SU;BYMONTH=10
TZNAME:CET
END:STANDARD
END:VTIMEZONE
BEGIN:VEVENT
DTSTAMP:20260424T143303Z
UID:1683637200@ist.ac.at
DTSTART:20230509T150000
DTEND:20230509T210000
DESCRIPTION:Abstract: We are happy to invite you to the ISTA Spring Festiva
 l.The Spring Festival is an internal afternoon event\, which offers the op
 portunity to meet new (and old) colleagues and have an informal exchange a
 bout the many science and non-science related activities that the communit
 y of ISTA is all about.However\, one thing is for sure. There will be live
  music and you can be part of it! In case you want to showcase your musica
 l talent\, please write to Sue Shi sue.shi@ist.ac.at The programme is as
  follows:3:00pm-3:05pm    Welcome Words Martin Hetzer\, President ISTAfr
 om 3:05pm         Opening Buffet3:00pm-7:00pm    Around campus: Boo
 ths (information tables)\, e.g.:Sustainability Group : Green LabSustainabi
 lity Group : Community GardeningCommunicationsScience EducationGraduate Sc
 hool AssociationArt Clubxista3:05pm-4:30pm    DJ Performance (Background
  music)4:00pm-6:00pm     Lab flea market at Green Lab Boothfrom 4:00pm
          Foosball tournament in front of Lab Building East4:30pm-4:45
 pm    ISTA Choir4:45pm-5:30pm    ISTA Band 5:00pm             
     Lab Tour “How to do research more sustainable”\, meeting point 
 Green Lab Booth                                   (appr
 ox. 20 min)5:30pm-6:30pm     Discover Yoga with Anja at Big Green Area5
 :30pm-6:30pm    DJ Performance6:30pm                  Foosball 
 Award ceremony6:30pm-7:00pm    Tango performance7:00pm-7:30pm    Salsa
  performance 7:30pm-9:00pm    DJ Performance9:00pm              
    End Please register for the Spring Festival and let us know by Ma
 y 1 if you will attend (so we can order enough food). Food and soft drink
 s will be free of charge. You will be able to buy beer and wine from the 
 caterer during the Spring Festival. You will need to get a free wristban
 d in order to get food and drinks from the catering at the Spring Festiva
 l.Where can you get a wristband?If you want to avoid the queue you can col
 lect your wristband at the Event Office (Voest Alpine Building I03.EG.010)
  from May 2 onwards. You can also get the wristbands on the day of the Sp
 ring Festival: either from 2 pm onwards from a wristband station next to t
 he pond or from 3 pm from the Communications booth at the Spring Festival 
 site. 
LOCATION:ISTA Campus\, ISTA
ORGANIZER:Alicja Swierczek
SUMMARY:Spring Festival
URL:https://talks-calendar.ista.ac.at/events/4034
END:VEVENT
END:VCALENDAR
