BEGIN:VCALENDAR
VERSION:2.0
PRODID:icalendar-ruby
CALSCALE:GREGORIAN
METHOD:PUBLISH
BEGIN:VTIMEZONE
TZID:Europe/Vienna
BEGIN:DAYLIGHT
DTSTART:20230326T030000
TZOFFSETFROM:+0100
TZOFFSETTO:+0200
RRULE:FREQ=YEARLY;BYDAY=-1SU;BYMONTH=3
TZNAME:CEST
END:DAYLIGHT
BEGIN:STANDARD
DTSTART:20221030T020000
TZOFFSETFROM:+0200
TZOFFSETTO:+0100
RRULE:FREQ=YEARLY;BYDAY=-1SU;BYMONTH=10
TZNAME:CET
END:STANDARD
END:VTIMEZONE
BEGIN:VEVENT
DTSTAMP:20260425T181346Z
UID:1678363200@ist.ac.at
DTSTART:20230309T130000
DTEND:20230309T150000
DESCRIPTION:Speaker: Peter Fiebig\nhosted by Tamas Hausel\nAbstract: To a f
 ixed root system one can associate various representation theories. Among 
 the more challenging are the representations of algebraic groups over a gr
 ound field of positive characteristic (the modular case)\, and of quantum 
 groups at a root of unity (the quantum case). Lusztig and Lusztig-Williams
 on conjectured the existence of infinitely many generations of representat
 ion theories\, the quantum case being the first generation\, and the modul
 ar case being the limit at infinity (for big enough prime characteristics)
 . For a fixed root system we provide a framework that includes both the mo
 dular and the quantum case\, and that allows to define infinitely many app
 roximations in between. These approximations  might serve as a candidate 
 for the Lusztig-Williamson generations. 
LOCATION:Heinzel Seminar Room (I21.EG.101)\, Office Building West\, ISTA\, 
 ISTA
ORGANIZER:birgit.oosthuizen-noczil@ist.ac.at 
SUMMARY:Peter Fiebig: Quantum approximations of algebraic representations
URL:https://talks-calendar.ista.ac.at/events/3999
END:VEVENT
END:VCALENDAR
