BEGIN:VCALENDAR
VERSION:2.0
PRODID:icalendar-ruby
CALSCALE:GREGORIAN
METHOD:PUBLISH
BEGIN:VTIMEZONE
TZID:Europe/Vienna
BEGIN:DAYLIGHT
DTSTART:20230326T030000
TZOFFSETFROM:+0100
TZOFFSETTO:+0200
RRULE:FREQ=YEARLY;BYDAY=-1SU;BYMONTH=3
TZNAME:CEST
END:DAYLIGHT
BEGIN:STANDARD
DTSTART:20231029T020000
TZOFFSETFROM:+0200
TZOFFSETTO:+0100
RRULE:FREQ=YEARLY;BYDAY=-1SU;BYMONTH=10
TZNAME:CET
END:STANDARD
END:VTIMEZONE
BEGIN:VEVENT
DTSTAMP:20260424T143121Z
UID:1684143000@ist.ac.at
DTSTART:20230515T113000
DTEND:20230515T123000
DESCRIPTION:Speaker: Onur Hosten\nhosted by Johannes Fink\nAbstract: In thi
 s talk I will give a high level overview of the research activities that a
 re undertaken in my group\, which are enabled by advances in the level of 
 precision in controlling atomic and optical systems.I will share our journ
 ey of generating quantum entangled states of laser cooled atomic gases\, a
 nd of using them to develop atom interferometric force sensors to test fun
 damental physical laws. I will then share our ambitions for testing whethe
 r gravity obeys the laws of quantum mechanics utilizing milligram scale pe
 ndulums and cold atoms that all ought to behave quantum mechanically. I wi
 ll also point at how some of our scientifically motivated technique develo
 pments might be turning into industry products.
LOCATION:Raiffeisen Lecture Hall\, ISTA
ORGANIZER:arinya.eller@ist.ac.at
SUMMARY:Onur Hosten: Quantum sensing with atoms\, light and pendulums
URL:https://talks-calendar.ista.ac.at/events/3970
END:VEVENT
END:VCALENDAR
