BEGIN:VCALENDAR
VERSION:2.0
PRODID:icalendar-ruby
CALSCALE:GREGORIAN
METHOD:PUBLISH
BEGIN:VTIMEZONE
TZID:Europe/Vienna
BEGIN:DAYLIGHT
DTSTART:20230326T030000
TZOFFSETFROM:+0100
TZOFFSETTO:+0200
RRULE:FREQ=YEARLY;BYDAY=-1SU;BYMONTH=3
TZNAME:CEST
END:DAYLIGHT
BEGIN:STANDARD
DTSTART:20221030T020000
TZOFFSETFROM:+0200
TZOFFSETTO:+0100
RRULE:FREQ=YEARLY;BYDAY=-1SU;BYMONTH=10
TZNAME:CET
END:STANDARD
END:VTIMEZONE
BEGIN:VEVENT
DTSTAMP:20260424T214043Z
UID:63ca52e75d4ad531788877@ist.ac.at
DTSTART:20230131T133000
DTEND:20230131T180000
DESCRIPTION:Speaker: Corinna Ulcigrai\nhosted by Kaloshin Group
LOCATION:Heinzel Seminar Room / Office Bldg West (I21.EG.101)\, ISTA
ORGANIZER:cfrancois@ist.ac.at
SUMMARY:Corinna Ulcigrai: DynamIST Seminar
URL:https://talks-calendar.ista.ac.at/events/3965
END:VEVENT
END:VCALENDAR
