BEGIN:VCALENDAR
VERSION:2.0
PRODID:icalendar-ruby
CALSCALE:GREGORIAN
METHOD:PUBLISH
BEGIN:VTIMEZONE
TZID:Europe/Vienna
BEGIN:DAYLIGHT
DTSTART:20230326T030000
TZOFFSETFROM:+0100
TZOFFSETTO:+0200
RRULE:FREQ=YEARLY;BYDAY=-1SU;BYMONTH=3
TZNAME:CEST
END:DAYLIGHT
BEGIN:STANDARD
DTSTART:20231029T020000
TZOFFSETFROM:+0200
TZOFFSETTO:+0100
RRULE:FREQ=YEARLY;BYDAY=-1SU;BYMONTH=10
TZNAME:CET
END:STANDARD
END:VTIMEZONE
BEGIN:VEVENT
DTSTAMP:20260424T125153Z
UID:1683010800@ist.ac.at
DTSTART:20230502T090000
DTEND:20230505T200000
DESCRIPTION:Abstract: On May 2 and 3\, 2023 the Nuclear Magnetic Resonan
 ce Symposium will take place at the Institute of Science and Technology A
 ustria (ISTA). The days after\, May 4 and 5\, 2023\, a NMR workshop will
  be held for a select group of PhD students.This event brings together est
 ablished scientists and young researches working on Nuclear Magnetic Reson
 ance with a focus on biological systems. The event is an opportunity for y
 oung researchers to network and to gain hands-on experience.The 2-day symp
 osium brings together leading scientists in Nuclear Magnetic Resonance stu
 dies of biological systems\, who will present latest results from their re
 search.During the following 2-day workshop\, a selected group of young res
 earchers will have the opportunity to get exposed to latest developments i
 n biomolecular solid-state NMR. The workshop comprises presentations on pr
 actical aspects and instrumentation\, as well as hands-on sessions on the 
 spectrometers.The symposium and workshop are organized at the occasion of 
 the opening of the new NMR facility at ISTA.Speakers of the symposiumAd Ba
 x – NIH\, Bethesda MD\, USAMelinda Duer – University of Cambridge\, UK
 Bernhard Brutscher – Institut de Biologie Structurale\, Grenoble\, Franc
 eLucio Frydman – Weizmann Institute\, IsraelIva Pritisanac Graz – Univ
 ersity of Graz\, AustriaLewis Kay – University of Toronto\, CanadaRemco 
 Sprangers\, University of Regensburg – University of Regensburg\, German
 yMei Hong – Massachusetts Institute of Technology\, USAJanez Plavec\, Sl
 ovenia\, Ljubljana – University of Ljubljana\, SloveniaFrans Mulder – 
 University of Linz\, AustriaJan Stanek\, University of Warsaw – Universi
 ty of Warsaw\, PolandLukas Trantirek from CEITEC (Brno\, Chech Republic) 
 Dennis Kurzbach\, University of ViennaD Flemming Hansen\, University Colle
 ge LondonSpecial thank you to the sponsors of the NMR Symposium and Worksh
 op: Bruker (https://www.bruker.com/en.html)We are looking forward to welc
 oming you to the NMR Symposium and Workshop at ISTA!
LOCATION:ISTA\, ISTA
ORGANIZER:
SUMMARY:Nuclear Magnetic Resonance Symposium and Workshop 2023
URL:https://talks-calendar.ista.ac.at/events/3964
END:VEVENT
END:VCALENDAR
