BEGIN:VCALENDAR
VERSION:2.0
PRODID:icalendar-ruby
CALSCALE:GREGORIAN
METHOD:PUBLISH
BEGIN:VTIMEZONE
TZID:Europe/Vienna
BEGIN:DAYLIGHT
DTSTART:20230326T030000
TZOFFSETFROM:+0100
TZOFFSETTO:+0200
RRULE:FREQ=YEARLY;BYDAY=-1SU;BYMONTH=3
TZNAME:CEST
END:DAYLIGHT
BEGIN:STANDARD
DTSTART:20231029T020000
TZOFFSETFROM:+0200
TZOFFSETTO:+0100
RRULE:FREQ=YEARLY;BYDAY=-1SU;BYMONTH=10
TZNAME:CET
END:STANDARD
END:VTIMEZONE
BEGIN:VEVENT
DTSTAMP:20260424T143129Z
UID:1682593200@ist.ac.at
DTSTART:20230427T130000
DTEND:20230427T140000
DESCRIPTION:Abstract: Join us for the symbolic moment where the former pres
 ident\, Thomas A. Henzinger\, hands over his presidency to his successor
 . This event will culminate in an address by President Hetzer\, giving the
  audience a glimpse of his vision for ISTA’s future. ProgrammeHost: Ha
 nnelore VeitMusic: Mario Rom's Interzone13:00 Welcome Words by Claus A. Ra
 idl\, Chairman of the ISTA Board of Trustees13:10 Speech by Martin Polasch
 ek\, Minister of Science\, Education and Research13:15 Speech by Johanna 
 Mikl-Leitner\, Governor of Lower Austria13:25 Handover of the Presidency f
 rom Thomas A. Henzinger to Martin Hetzer13:35 Inaugural Address by Mar
 tin Hetzer14:00 Networking 14:30 Campus Tour (by registration only\, durat
 ion: approx. 30 minutes)   Shuttle BusFrom Vienna to ISTA12:10 pm from 
 Wien Heiligenstadt (U4) Boschstraße12:00 pm from Wien Schwedenplatz (Hop 
 on Hop Off stop)From ISTA to Vienna2:15\; 2:28\; 2:45\; 3:00\, 3:28 pm to 
 Wien Heiligenstadt (U4) Boschstraße2:30 pm to Wien Schwedenplatz (Hop on 
 Hop Off stop)this is the location of the bus station at Schwedenplatz\, Vi
 enna
LOCATION:Raiffeisen Lecture Hall\, ISTA\, ISTA
ORGANIZER:alicja.swierczek@ist.ac.at
SUMMARY:Inauguration ceremony - Martin Hetzer
URL:https://talks-calendar.ista.ac.at/events/3963
END:VEVENT
END:VCALENDAR
