BEGIN:VCALENDAR
VERSION:2.0
PRODID:icalendar-ruby
CALSCALE:GREGORIAN
METHOD:PUBLISH
BEGIN:VTIMEZONE
TZID:Europe/Vienna
BEGIN:DAYLIGHT
DTSTART:20230326T030000
TZOFFSETFROM:+0100
TZOFFSETTO:+0200
RRULE:FREQ=YEARLY;BYDAY=-1SU;BYMONTH=3
TZNAME:CEST
END:DAYLIGHT
BEGIN:STANDARD
DTSTART:20221030T020000
TZOFFSETFROM:+0200
TZOFFSETTO:+0100
RRULE:FREQ=YEARLY;BYDAY=-1SU;BYMONTH=10
TZNAME:CET
END:STANDARD
END:VTIMEZONE
BEGIN:VEVENT
DTSTAMP:20260424T143228Z
UID:1674745200@ist.ac.at
DTSTART:20230126T160000
DTEND:20230126T170000
DESCRIPTION:Speaker: ParityQC\nAbstract: CAREER:This could be an exciting o
 pportunity for all those scientists from a broad spectrum of backgrounds (
 i.e. computer science\, mathematics\, physics etc.) interested in getting
  an insight into what it means and what it takes to have a career outside
  Academia\, and in particular in a Quantum Architecture company. You can 
 already scan through the main requirements for different positions in thei
 r company here below:https://parityqc.com/careers INDUSTRY:It will also b
 e a very useful chance to understand what are the practical problems and t
 he type of research carried out in industry that would lead clients to inv
 est or hire such type of company. Please see recent news below as an ex
 ample:https://parityqc.com/parityqc-awarded-contract-by-the-german-aerospa
 ce-center-dlrACADEMIA:Last but not least\, if anyone is interested in main
 taining a foot in academia while working in the industry (or the other way
  around)\, this event will also provide an interesting example of how indu
 stry and academia can collaborate to create synergy https://thequantumin
 sider.com/2022/11/21/parityqc-university-of-innsbruck-develop-new-universa
 l-quantum-computing-method/ One of ParityQC's co-founders and CEO\, Prof
 . Dr. Wolfgang Lechner is also a Group Leader at the University of Innsbr
 uck - please find more details belowhttps://www.uibk.ac.at/th-physik/quant
 um-optimization/
LOCATION:Downtown (Central Building)\, ISTA
ORGANIZER:boris.cesnik@ist.ac.at
SUMMARY:ParityQC: Looking to the Future: ParityQC talk
URL:https://talks-calendar.ista.ac.at/events/3958
END:VEVENT
END:VCALENDAR
