BEGIN:VCALENDAR
VERSION:2.0
PRODID:icalendar-ruby
CALSCALE:GREGORIAN
METHOD:PUBLISH
BEGIN:VTIMEZONE
TZID:Europe/Vienna
BEGIN:DAYLIGHT
DTSTART:20230326T030000
TZOFFSETFROM:+0100
TZOFFSETTO:+0200
RRULE:FREQ=YEARLY;BYDAY=-1SU;BYMONTH=3
TZNAME:CEST
END:DAYLIGHT
BEGIN:STANDARD
DTSTART:20221030T020000
TZOFFSETFROM:+0200
TZOFFSETTO:+0100
RRULE:FREQ=YEARLY;BYDAY=-1SU;BYMONTH=10
TZNAME:CET
END:STANDARD
END:VTIMEZONE
BEGIN:VEVENT
DTSTAMP:20260424T074528Z
UID:1674661500@ist.ac.at
DTSTART:20230125T164500
DTEND:20230125T174000
DESCRIPTION:Speaker: Sarah Penington\nhosted by M. Beiglböck\, N. Berestyc
 ki\, L. Erdös\, J. Maas\, F. Toninelli\, E. Schertzer\nAbstract: We study
  a particle system in which particles reproduce\, move randomly in space\,
  and compete with each other. We prove global survival as well as a shape 
 theorem describing the asymptotic spread of the population\, when the popu
 lation density is sufficiently large. In contrast to most previous work\, 
 we allow the competition kernel to have an arbitrary\, or even infinite ra
 nge\, whence the term 'non-local competition'. This makes the particle sys
 tem non-monotone and of infinite-range dependence\, meaning that the usual
  comparison arguments break down and have to be replaced by a more hands-o
 n approach. Based on joint work with Pascal Maillard.
LOCATION:Mondi 2\, I01.01.008\, Central Building\, ISTA
ORGANIZER:birgit.oosthuizen-noczil@ist.ac.at
SUMMARY:Sarah Penington: Branching random walk with non-local competition
URL:https://talks-calendar.ista.ac.at/events/3956
END:VEVENT
END:VCALENDAR
