BEGIN:VCALENDAR
VERSION:2.0
PRODID:icalendar-ruby
CALSCALE:GREGORIAN
METHOD:PUBLISH
BEGIN:VTIMEZONE
TZID:Europe/Vienna
BEGIN:DAYLIGHT
DTSTART:20230326T030000
TZOFFSETFROM:+0100
TZOFFSETTO:+0200
RRULE:FREQ=YEARLY;BYDAY=-1SU;BYMONTH=3
TZNAME:CEST
END:DAYLIGHT
BEGIN:STANDARD
DTSTART:20221030T020000
TZOFFSETFROM:+0200
TZOFFSETTO:+0100
RRULE:FREQ=YEARLY;BYDAY=-1SU;BYMONTH=10
TZNAME:CET
END:STANDARD
END:VTIMEZONE
BEGIN:VEVENT
DTSTAMP:20260424T125159Z
UID:1674746100@ist.ac.at
DTSTART:20230126T161500
DTEND:20230126T171500
DESCRIPTION:Speaker: Blazej Ruba\nhosted by Robert Seiringer\nAbstract: Pau
 li stabilizer code is a system of qubits (or 'qudits') whose ground state 
 vectors are characterized by invariance under the action of an abelian sub
 group of a discrete Heisenberg group. Pauli stabilizer codes have been con
 sidered by theorists as potential tools in achieving fault tolerance in qu
 antum computation. It was observed that such systems of locally interactin
 g qudits arranged on a lattice may exhibit surprising properties\, e.g. gr
 ound state degeneracy depending on the topology or existence of excitation
 s created at ends of line operators which can not be created locally. Afte
 r describing basic examples\, I will outline the theory of translation inv
 ariant Pauli stabilizer codes based on commutative algebra.
LOCATION:Mondi 2\, I01.01.008\, Central Building\, ISTA
ORGANIZER:birgit.oosthuizen-noczil@ist.ac.at
SUMMARY:Blazej Ruba: Pauli stabilizer codes
URL:https://talks-calendar.ista.ac.at/events/3955
END:VEVENT
END:VCALENDAR
