BEGIN:VCALENDAR
VERSION:2.0
PRODID:icalendar-ruby
CALSCALE:GREGORIAN
METHOD:PUBLISH
BEGIN:VTIMEZONE
TZID:Europe/Vienna
BEGIN:DAYLIGHT
DTSTART:20230326T030000
TZOFFSETFROM:+0100
TZOFFSETTO:+0200
RRULE:FREQ=YEARLY;BYDAY=-1SU;BYMONTH=3
TZNAME:CEST
END:DAYLIGHT
BEGIN:STANDARD
DTSTART:20221030T020000
TZOFFSETFROM:+0200
TZOFFSETTO:+0100
RRULE:FREQ=YEARLY;BYDAY=-1SU;BYMONTH=10
TZNAME:CET
END:STANDARD
END:VTIMEZONE
BEGIN:VEVENT
DTSTAMP:20260424T085423Z
UID:1677828600@ist.ac.at
DTSTART:20230303T083000
DTEND:20230303T180000
DESCRIPTION:Abstract: The aim of this 5th “Development and Stem Cells”
  regional meeting on March 3\, 2023\, is to initiate a scientific dialogu
 e\, exchange of know-how about new technologies\, and open opportunities f
 or collaboration between groups and institutes around Vienna.Our goal is t
 o encourage the establishment of a coherent scientific community in the ar
 ea\, which is why the meeting is free of registration fees. This conferenc
 e is also specifically aimed at PhD students and postdocs. We thus encour
 age everyone to submit abstracts (https://devstem.pages.ist.ac.at/registe
 r/) for poster presentations. Several abstracts will be selected for shor
 t talks (which will make up the bulk of the conference). There will also b
 e 1 min flash-talks to advertise posters.Apart from talks by PhD students 
 and postdocs\, two keynote lectures will be given by Sofia Grade (IMBA) 
 and Carl-Philipp Heisenberg (ISTA).The regional meeting 2023 is a joint ef
 fort of members of several regional research institutes:ISTA (http://www.i
 sta.ac.at/)University of Vienna (http://www.univie.ac.at/)Medical Universi
 ty of Vienna (https://www.meduniwien.ac.at/web/)Max Perutz Labs Vienna (ht
 tps://www.maxperutzlabs.ac.at/)Research Institute of Molecular Pathology (
 IMP (https://www.imp.ac.at/))Institute of Molecular Biotechnology (IMBA) (
 https://www.imba.oeaw.ac.at/science-society/)Gregor Mendel Institute of Mo
 lecular Plant Biology (GMI) (https://www.oeaw.ac.at/gmi/) Please find mor
 e details on Scientific Program  (https://devstem.pages.ist.ac.at/scient
 ific-program/)that will be updated regularly! Register  (https://devstem
 .pages.ist.ac.at/register/)now!
LOCATION:ISTA\, ISTA
ORGANIZER:
SUMMARY:Development and Stem Cells Regional Meeting
URL:https://talks-calendar.ista.ac.at/events/3941
END:VEVENT
END:VCALENDAR
