BEGIN:VCALENDAR
VERSION:2.0
PRODID:icalendar-ruby
CALSCALE:GREGORIAN
METHOD:PUBLISH
BEGIN:VTIMEZONE
TZID:Europe/Vienna
BEGIN:DAYLIGHT
DTSTART:20220327T030000
TZOFFSETFROM:+0100
TZOFFSETTO:+0200
RRULE:FREQ=YEARLY;BYDAY=-1SU;BYMONTH=3
TZNAME:CEST
END:DAYLIGHT
BEGIN:STANDARD
DTSTART:20221030T020000
TZOFFSETFROM:+0200
TZOFFSETTO:+0100
RRULE:FREQ=YEARLY;BYDAY=-1SU;BYMONTH=10
TZNAME:CET
END:STANDARD
END:VTIMEZONE
BEGIN:VEVENT
DTSTAMP:20260424T143013Z
UID:1665658800@ist.ac.at
DTSTART:20221013T130000
DTEND:20221013T150000
DESCRIPTION:Speaker: Szilard Szabo\nhosted by Tamas Hausel\nAbstract: In th
 e first part I will discuss about the Geometric variant of the P=W conject
 ure and its relationship to the original cohomological P=W conjecture. I w
 ill also introduce Donaldson--Thomas theory as a framework arising in vari
 ous problems of Mathematical Physics\, and point out its relevance to the 
 aforementioned conjectures in some parabolic cases.In the second part\, I 
 will give more detail on some ingredients and parts of the proofs.
LOCATION:Heinzel Seminar Room (I21.EG.101)\, Office Building West\, ISTA
ORGANIZER:birgit.oosthuizen-noczil@ist.ac.at
SUMMARY:Szilard Szabo: Asymptotic Hodge theory via WKB-analysis and Donalds
 on--Thomas theory
URL:https://talks-calendar.ista.ac.at/events/3937
END:VEVENT
END:VCALENDAR
