BEGIN:VCALENDAR
VERSION:2.0
PRODID:icalendar-ruby
CALSCALE:GREGORIAN
METHOD:PUBLISH
BEGIN:VTIMEZONE
TZID:Europe/Vienna
BEGIN:DAYLIGHT
DTSTART:20230326T030000
TZOFFSETFROM:+0100
TZOFFSETTO:+0200
RRULE:FREQ=YEARLY;BYDAY=-1SU;BYMONTH=3
TZNAME:CEST
END:DAYLIGHT
BEGIN:STANDARD
DTSTART:20221030T020000
TZOFFSETFROM:+0200
TZOFFSETTO:+0100
RRULE:FREQ=YEARLY;BYDAY=-1SU;BYMONTH=10
TZNAME:CET
END:STANDARD
END:VTIMEZONE
BEGIN:VEVENT
DTSTAMP:20260424T040701Z
UID:63199ef5b55f3290217686@ist.ac.at
DTSTART:20221117T110000
DTEND:20221117T120000
DESCRIPTION:Speaker: Luca Barberi\nhosted by Jérémie Palacci\nAbstract: T
 BA
LOCATION:Heinzel Seminar Room / Office Bldg West (I21.EG.101)\, ISTA
ORGANIZER:cpetz@ist.ac.at
SUMMARY:Luca Barberi: SLAM Talk
URL:https://talks-calendar.ista.ac.at/events/3931
END:VEVENT
END:VCALENDAR
