BEGIN:VCALENDAR
VERSION:2.0
PRODID:icalendar-ruby
CALSCALE:GREGORIAN
METHOD:PUBLISH
BEGIN:VTIMEZONE
TZID:Europe/Vienna
BEGIN:DAYLIGHT
DTSTART:20220327T030000
TZOFFSETFROM:+0100
TZOFFSETTO:+0200
RRULE:FREQ=YEARLY;BYDAY=-1SU;BYMONTH=3
TZNAME:CEST
END:DAYLIGHT
BEGIN:STANDARD
DTSTART:20221030T020000
TZOFFSETFROM:+0200
TZOFFSETTO:+0100
RRULE:FREQ=YEARLY;BYDAY=-1SU;BYMONTH=10
TZNAME:CET
END:STANDARD
END:VTIMEZONE
BEGIN:VEVENT
DTSTAMP:20260424T143104Z
UID:1662724800@ist.ac.at
DTSTART:20220909T140000
DTEND:20220909T153000
DESCRIPTION:Speaker: Priyanka Dutta Passecker\nhosted by Bernhard Petermeie
 r\nAbstract: AbstractI often reflect back on my  journey from Academia to
  industry to starting my own company. I will speak about whether it is abo
 ut taking path less travelled and keep going to follow your dream.As a fem
 ale founder and entrepreneur\, it remains important to me to continue shat
 ter glass ceilings and continue to support uplift innovation-driven mindse
 t within researchers to translate innovation to transform patients’ live
 s. I will speak about how the private venture-funded companies valued at $
 1 billion and up (at least 957)\, an estimated 11.4 percent have a female 
 founder or co-founder and how we can change the paradigm by offering early
  tools to researcher to be ready for industry. I will share my vision for 
 Healiva where I mobilized a core team of seasoned experts in wound care an
 d cell therapy that helped to build a cell therapy\, medical device and en
 zyme technology focused start up in Lugano\, Switzerland. Healiva® aims t
 o provide a paradigm shift in wound care by bringing one of the broadest\,
  end-to-end\, personalized chronic wound care portfolios to millions of pa
 tients with unmet chronic wound needs. About Priyanka Dutta PasseckerDr.
  Priyanka Dutta-Passecker excels in combining her scientific prowess (a Ph
 D in Neuroscience from Trinity College Dublin\, Ireland) with her qualifie
 d business expertise (a dual MBA from WU Executive Academia\, Austria\, an
 d Carlson Business School\, Minnesota\, USA) to translate scientific advan
 ces to patient-oriented solutions. She has gained over years of experience
  in the pharmaceutical and biotechnology industries\, with key accomplishm
 ents in enzyme technology and cell therapy from Novartis (CH)\, UCB (B)\, 
 Axol Bioscience (UK) and Bioseutica (CH). Outside of her professional life
  she is an energetic supporter of diversity and female empowerment\, which
  has culminated in her co-foundation of the WU EA Female Leaders Network i
 n Vienna\, Austria\, which has grown into the biggest female leadership ne
 twork in central Europe. Priyanka also shares her experience and helps tra
 in the next generation of entrepreneurs at the School of Medicine\, Trinit
 y College Dublin\, Ireland. Please register below to facilitate the regi
 stration at the TWIST Talk.
LOCATION:Down-Town\, Central building\, ISTA
ORGANIZER:catalin.balcau@ist.ac.at
SUMMARY:Priyanka Dutta Passecker: TWIST Talk: Reflection on my journey from
  Academia to industry
URL:https://talks-calendar.ista.ac.at/events/3918
END:VEVENT
END:VCALENDAR
