BEGIN:VCALENDAR
VERSION:2.0
PRODID:icalendar-ruby
CALSCALE:GREGORIAN
METHOD:PUBLISH
BEGIN:VTIMEZONE
TZID:Europe/Vienna
BEGIN:DAYLIGHT
DTSTART:20220327T030000
TZOFFSETFROM:+0100
TZOFFSETTO:+0200
RRULE:FREQ=YEARLY;BYDAY=-1SU;BYMONTH=3
TZNAME:CEST
END:DAYLIGHT
BEGIN:STANDARD
DTSTART:20221030T020000
TZOFFSETFROM:+0200
TZOFFSETTO:+0100
RRULE:FREQ=YEARLY;BYDAY=-1SU;BYMONTH=10
TZNAME:CET
END:STANDARD
END:VTIMEZONE
BEGIN:VEVENT
DTSTAMP:20260424T143114Z
UID:1663239600@ist.ac.at
DTSTART:20220915T130000
DTEND:20220915T140000
DESCRIPTION:Speaker: Yuto Ashida\nhosted by Johannes Fink\nAbstract: Strong
  coupling between matter and quantized electromagnetic modes may offer yet
  another approach of controlling equilibrium phases or dynamics of quantum
  many-body systems. Recent developments have realized such strong light-ma
 tter interaction in genuinely nonperturbative regimes\, where conventional
  theoretical methods often fail. I will talk about how one can analyze str
 ongly coupled quantum light-matter systems at arbitrary interaction streng
 ths on the basis of an asymptotically disentangling unitary transformation
  [1\,2]. I discuss its application to construction of tight-binding Hamilt
 onians\, dynamics of bound states in the continuum\, and revisiting dissip
 ative quantum phase transition in resistively shunted Josephson junctions 
 [3]. [1] Y. Ashida\, A. Imamoglu and E. Demler\, PRL 126\, 153603 (2021).
 [2] Y. Ashida\, T. Yokota\, A. Imamoglu and E. Demler\, PRR 4\, 023194 (20
 22).[3] K. Masuki\, H. Sudo\, M. Oshikawa and Y. Ashida\, PRL 129\, 087001
  (2022).
LOCATION:Online via Zoom\, ISTA
ORGANIZER:sandra.widdmann@ista.ac.at
SUMMARY:Yuto Ashida: Dissipative quantum phase transition and nonperturbati
 ve cQED
URL:https://talks-calendar.ista.ac.at/events/3917
END:VEVENT
END:VCALENDAR
