BEGIN:VCALENDAR
VERSION:2.0
PRODID:icalendar-ruby
CALSCALE:GREGORIAN
METHOD:PUBLISH
BEGIN:VTIMEZONE
TZID:Europe/Vienna
BEGIN:DAYLIGHT
DTSTART:20220327T030000
TZOFFSETFROM:+0100
TZOFFSETTO:+0200
RRULE:FREQ=YEARLY;BYDAY=-1SU;BYMONTH=3
TZNAME:CEST
END:DAYLIGHT
BEGIN:STANDARD
DTSTART:20221030T020000
TZOFFSETFROM:+0200
TZOFFSETTO:+0100
RRULE:FREQ=YEARLY;BYDAY=-1SU;BYMONTH=10
TZNAME:CET
END:STANDARD
END:VTIMEZONE
BEGIN:VEVENT
DTSTAMP:20260424T140741Z
UID:1664789400@ist.ac.at
DTSTART:20221003T113000
DTEND:20221003T123000
DESCRIPTION:Speaker: Jérémie Palacci\nhosted by TBA
LOCATION:Raiffeisen Lecture Hall\, ISTA
ORGANIZER:arinya.eller@ist.ac.at
SUMMARY:Jérémie Palacci: Four-year Colloquium: Jérémie Palacci (ISTA)
URL:https://talks-calendar.ista.ac.at/events/3911
END:VEVENT
END:VCALENDAR
