BEGIN:VCALENDAR
VERSION:2.0
PRODID:icalendar-ruby
CALSCALE:GREGORIAN
METHOD:PUBLISH
BEGIN:VTIMEZONE
TZID:Europe/Vienna
BEGIN:DAYLIGHT
DTSTART:20230326T030000
TZOFFSETFROM:+0100
TZOFFSETTO:+0200
RRULE:FREQ=YEARLY;BYDAY=-1SU;BYMONTH=3
TZNAME:CEST
END:DAYLIGHT
BEGIN:STANDARD
DTSTART:20221030T020000
TZOFFSETFROM:+0200
TZOFFSETTO:+0100
RRULE:FREQ=YEARLY;BYDAY=-1SU;BYMONTH=10
TZNAME:CET
END:STANDARD
END:VTIMEZONE
BEGIN:VEVENT
DTSTAMP:20260424T125201Z
UID:1674469800@ist.ac.at
DTSTART:20230123T113000
DTEND:20230123T113000
DESCRIPTION:Speaker: Zvonimir Dogic\nhosted by Jérémie Palacci
LOCATION:Raiffeisen Lecture Hall\, ISTA
ORGANIZER:arinya.eller@ist.ac.at
SUMMARY:Zvonimir Dogic: Institute Colloquium: Zvonimir Dogic (UC Santa Barb
 ara)
URL:https://talks-calendar.ista.ac.at/events/3908
END:VEVENT
END:VCALENDAR
