BEGIN:VCALENDAR
VERSION:2.0
PRODID:icalendar-ruby
CALSCALE:GREGORIAN
METHOD:PUBLISH
BEGIN:VTIMEZONE
TZID:Europe/Vienna
BEGIN:DAYLIGHT
DTSTART:20230326T030000
TZOFFSETFROM:+0100
TZOFFSETTO:+0200
RRULE:FREQ=YEARLY;BYDAY=-1SU;BYMONTH=3
TZNAME:CEST
END:DAYLIGHT
BEGIN:STANDARD
DTSTART:20221030T020000
TZOFFSETFROM:+0200
TZOFFSETTO:+0100
RRULE:FREQ=YEARLY;BYDAY=-1SU;BYMONTH=10
TZNAME:CET
END:STANDARD
END:VTIMEZONE
BEGIN:VEVENT
DTSTAMP:20260424T143003Z
UID:1669631400@ist.ac.at
DTSTART:20221128T113000
DTEND:20221128T123000
DESCRIPTION:Speaker: Shiri Artstein-Avidan\nhosted by Uli Wagner
LOCATION:Raiffeisen Lecture Hall\, ISTA
ORGANIZER:arinya.eller@ist.ac.at
SUMMARY:Shiri Artstein-Avidan: Institute Colloquium: Shiri Artstein-Avidan 
 (Tel Aviv University)
URL:https://talks-calendar.ista.ac.at/events/3900
END:VEVENT
END:VCALENDAR
