BEGIN:VCALENDAR
VERSION:2.0
PRODID:icalendar-ruby
CALSCALE:GREGORIAN
METHOD:PUBLISH
BEGIN:VTIMEZONE
TZID:Europe/Vienna
BEGIN:DAYLIGHT
DTSTART:20220327T030000
TZOFFSETFROM:+0100
TZOFFSETTO:+0200
RRULE:FREQ=YEARLY;BYDAY=-1SU;BYMONTH=3
TZNAME:CEST
END:DAYLIGHT
BEGIN:STANDARD
DTSTART:20221030T020000
TZOFFSETFROM:+0200
TZOFFSETTO:+0100
RRULE:FREQ=YEARLY;BYDAY=-1SU;BYMONTH=10
TZNAME:CET
END:STANDARD
END:VTIMEZONE
BEGIN:VEVENT
DTSTAMP:20260424T143358Z
UID:1666249200@ist.ac.at
DTSTART:20221020T090000
DTEND:20221020T180000
DESCRIPTION:Abstract: The annual Young Scientist Symposium aims to bring to
 gether all research disciplines of the Institute of Science and Technolog
 y Austria (ISTA) on one dedicated topic. This year’s topic is Energy.Th
 e YSS 2022 will take place on 20th of October\, packed with exciting prese
 ntations from leading researchers across multiple disciplines\, talking 
 about the challenges and possible solutions concerning energy.For further 
 information\, please refer to the Young Scientist Symposium 2022 website (
 https://yss22.pages.ist.ac.at/).
LOCATION:Raiffeisen Lecture Hall\, ISTA
ORGANIZER:yss2022@ist.ac.at
SUMMARY:Young Scientist Symposium 2022
URL:https://talks-calendar.ista.ac.at/events/3897
END:VEVENT
END:VCALENDAR
