BEGIN:VCALENDAR
VERSION:2.0
PRODID:icalendar-ruby
CALSCALE:GREGORIAN
METHOD:PUBLISH
BEGIN:VTIMEZONE
TZID:Europe/Vienna
BEGIN:DAYLIGHT
DTSTART:20220327T030000
TZOFFSETFROM:+0100
TZOFFSETTO:+0200
RRULE:FREQ=YEARLY;BYDAY=-1SU;BYMONTH=3
TZNAME:CEST
END:DAYLIGHT
BEGIN:STANDARD
DTSTART:20221030T020000
TZOFFSETFROM:+0200
TZOFFSETTO:+0100
RRULE:FREQ=YEARLY;BYDAY=-1SU;BYMONTH=10
TZNAME:CET
END:STANDARD
END:VTIMEZONE
BEGIN:VEVENT
DTSTAMP:20260424T143332Z
UID:62ea46583c4a9008306203@ist.ac.at
DTSTART:20221011T140000
DTEND:20221011T150000
DESCRIPTION:Speaker: Sylvain Crovisier\nhosted by Kaloshin Group\nAbstract:
  I will explain a relation between the discontinuities of the Lyapunov exp
 onents and of the entropy\, with respect to the invariant measures of smoo
 th diffeomorphisms of surfaces.Among the consequences\, one gets an answer
  to a conjecture by Viana on surfaces: if the Lyapunov exponents are posit
 ive for a set with positive area\, there exists an SRB measure.This is a j
 oint work with J. Buzzi and O. Sarig.
LOCATION:Heinzel Seminar Room / Office Bldg West (I21.EG.101)\, ISTA
ORGANIZER:jdeanton@ist.ac.at
SUMMARY:Sylvain Crovisier: Existence of physical measures for surface diffe
 omorphisms
URL:https://talks-calendar.ista.ac.at/events/3894
END:VEVENT
END:VCALENDAR
