BEGIN:VCALENDAR
VERSION:2.0
PRODID:icalendar-ruby
CALSCALE:GREGORIAN
METHOD:PUBLISH
BEGIN:VTIMEZONE
TZID:Europe/Vienna
BEGIN:DAYLIGHT
DTSTART:20220327T030000
TZOFFSETFROM:+0100
TZOFFSETTO:+0200
RRULE:FREQ=YEARLY;BYDAY=-1SU;BYMONTH=3
TZNAME:CEST
END:DAYLIGHT
BEGIN:STANDARD
DTSTART:20221030T020000
TZOFFSETFROM:+0200
TZOFFSETTO:+0100
RRULE:FREQ=YEARLY;BYDAY=-1SU;BYMONTH=10
TZNAME:CET
END:STANDARD
END:VTIMEZONE
BEGIN:VEVENT
DTSTAMP:20260424T143337Z
UID:1665504000@ist.ac.at
DTSTART:20221011T180000
DTEND:20221011T201500
DESCRIPTION:hosted by IST(A) Tech Park\nAbstract: The Science Industry Talk
  2022 provides a forum to discuss the delivery of innovative science and s
 cience-based business ideas through spin-offs\, industry-academia collabor
 ation – or both. We will give an update on the innovation ecosystem at a
 nd around ISTA\, the activities of our venture fund IST cube and our scien
 ce park.In our new format “The future of…” leaders in their domains 
 will present the status and outlook of exciting science and technology are
 as.Finally\, scientists and scientific entrepreneurs will discuss opportun
 ities and challenges with representatives from industry.
LOCATION:Raiffeisen Lecture Hall\, ISTA
ORGANIZER:msoronda@ist.ac.at
SUMMARY:Science-Industry Talk
URL:https://talks-calendar.ista.ac.at/events/3874
END:VEVENT
END:VCALENDAR
