BEGIN:VCALENDAR
VERSION:2.0
PRODID:icalendar-ruby
CALSCALE:GREGORIAN
METHOD:PUBLISH
BEGIN:VTIMEZONE
TZID:Europe/Vienna
BEGIN:DAYLIGHT
DTSTART:20220327T030000
TZOFFSETFROM:+0100
TZOFFSETTO:+0200
RRULE:FREQ=YEARLY;BYDAY=-1SU;BYMONTH=3
TZNAME:CEST
END:DAYLIGHT
BEGIN:STANDARD
DTSTART:20221030T020000
TZOFFSETFROM:+0200
TZOFFSETTO:+0100
RRULE:FREQ=YEARLY;BYDAY=-1SU;BYMONTH=10
TZNAME:CET
END:STANDARD
END:VTIMEZONE
BEGIN:VEVENT
DTSTAMP:20260424T143314Z
UID:1663776000@ist.ac.at
DTSTART:20220921T180000
DTEND:20220921T193000
DESCRIPTION:Speaker: Carl Zimmer\, Sara K. Yeo\, Elke Ziegler\, Alena Buyx\
 , Christine Marizzi\, Mariano Zafra\nhosted by Tom Henzinger\nAbstract: Sc
 ience is not a collection of facts\, but a collection of techniques that t
 ogether constitute the most powerful method for obtaining knowledge as a s
 ociety. Yet most real-world questions have too many facets to be answered
  or even approximated by a single technique\, or a single scientist. Thes
 e common misunderstandings have far-reaching consequences\, which range fr
 om a mistrust in scientists and the rejection of science\, to a blurring 
 between science and pseudo-science\, all the way to an uncritical glorifi
 cation of scientists and their findings. A major task of effective scienc
 e communication is\, therefore\, to explain the power and limits of scient
 ific techniques\, processes\, and findings. This we will discuss at ISTA
 ’s first Science Communication Day on September 21\, 2022.Speakers: Car
 l Zimmer (Science Writer\, New York Times)Sara K. Yeo (Associate Professor
 \, Department of Communication\, The University of Utah)  Elke Ziegler (
 Head of Aktuelle Wissenschaft Ö1\, ORF) Alena Buyx (President German Eth
 ics council\, Director Institute for History and Ethics\, Munich Universit
 y of Technology) Christine Marizzi (BioBus Inc. in New York City\, Scienc
 e Communicator) Mariano Zafra (Leader of Graphic and Storytelling team of
  El País) 
LOCATION:Raiffeisen Lecture Hall\, ISTA
ORGANIZER:alicja.swierczek@ist.ac.at
SUMMARY:Carl Zimmer\, Sara K. Yeo\, Elke Ziegler\, Alena Buyx\, Christine M
 arizzi\, Mariano Zafra: Science Communication Day 
URL:https://talks-calendar.ista.ac.at/events/3872
END:VEVENT
END:VCALENDAR
