BEGIN:VCALENDAR
VERSION:2.0
PRODID:icalendar-ruby
CALSCALE:GREGORIAN
METHOD:PUBLISH
BEGIN:VTIMEZONE
TZID:Europe/Vienna
BEGIN:DAYLIGHT
DTSTART:20220327T030000
TZOFFSETFROM:+0100
TZOFFSETTO:+0200
RRULE:FREQ=YEARLY;BYDAY=-1SU;BYMONTH=3
TZNAME:CEST
END:DAYLIGHT
BEGIN:STANDARD
DTSTART:20221030T020000
TZOFFSETFROM:+0200
TZOFFSETTO:+0100
RRULE:FREQ=YEARLY;BYDAY=-1SU;BYMONTH=10
TZNAME:CET
END:STANDARD
END:VTIMEZONE
BEGIN:VEVENT
DTSTAMP:20260424T143448Z
UID:1664960400@ist.ac.at
DTSTART:20221005T110000
DTEND:20221007T110000
DESCRIPTION:hosted by László Erdős\, Julian Fischer\, Jan Maas\, Robert 
 Seiringer\nAbstract: From October 05 to October 07\, 2022\, the annual w
 orkshop of the GAMM Activity Group on Analysis of PDEs will take place at
  the Institute of Science and Technology Austria (ISTA).The program will c
 onsist of several invited talks as well as a certain number of contributed
  talks\; furthermore\, in the framework of the workshop the annual meeting
  of the activity group will take place.Invited speakers:Gero Friesecke\, T
 U MunichManuel Gnann\, TU DelftSebastian Hensel\, University of BonnRichar
 d Hoefer\, Université de ParisKatharina Hopf\, WIAS BerlinBarbara Kaltenb
 acher\, University of KlagenfurtAlexander Mielke\, WIAS BerlinTobias Ried\
 , MPI for Mathematics in the Sciences Registration for the workshop is fr
 ee but mandatory\; please register before August 31.Please note that inst
 ructions for the event will be sent out exclusively by email to registered
  participants.We invite proposals for contributed talks of about 20-30 min
 utes\, to be sent by email to gamm-pde-2022@ist.ac.at (mailto:gamm-pde-20
 22@ist.ac.at) stating name\, affiliation\, as well as title and abstract
  of the talk.The deadline for proposals for contributed talks is August 1
 5.
LOCATION:ISTA Campus\, ISTA
ORGANIZER:christina.philippi@ist.ac.at
SUMMARY:GAMM Activity Group in Analysis of PDEs
URL:https://talks-calendar.ista.ac.at/events/3850
END:VEVENT
END:VCALENDAR
