BEGIN:VCALENDAR
VERSION:2.0
PRODID:icalendar-ruby
CALSCALE:GREGORIAN
METHOD:PUBLISH
BEGIN:VTIMEZONE
TZID:Europe/Vienna
BEGIN:DAYLIGHT
DTSTART:20220327T030000
TZOFFSETFROM:+0100
TZOFFSETTO:+0200
RRULE:FREQ=YEARLY;BYDAY=-1SU;BYMONTH=3
TZNAME:CEST
END:DAYLIGHT
BEGIN:STANDARD
DTSTART:20221030T020000
TZOFFSETFROM:+0200
TZOFFSETTO:+0100
RRULE:FREQ=YEARLY;BYDAY=-1SU;BYMONTH=10
TZNAME:CET
END:STANDARD
END:VTIMEZONE
BEGIN:VEVENT
DTSTAMP:20260424T114303Z
UID:62ac2da570443522044794@ist.ac.at
DTSTART:20220718T133000
DTEND:20220718T150000
DESCRIPTION:Speaker: Dan Lacks\nhosted by Scott Waitukaitis\nAbstract: We'v
 e all rubbed a balloon on our hair\, and saw the balloon and our hair get 
 electrostatically charged and attract each other. This seems like science 
 for elementary school children. However\, the most basic scientific questi
 ons underlying the charging do not have answers. We cannot predict from ma
 terial properties whether the balloon charges positive and the hair negati
 ve\, or vice versa. We don't know what limits the magnitude of charge on t
 he balloon\, or how long the charge will stay there. And a century-old deb
 ate as to whether electrons or ions are transferred is still going strong.
  In fact\, careful scientific research often leads to confounding observat
 ions that make us feel like we are moving further away from a scientific u
 nderstanding\, rather than closer to one.In this talk\, I will present wor
 k from my lab which we hope gives insights into both the charging and the 
 charge loss processes.
LOCATION:Heinzel Seminar Room / Office Bldg West (I21.EG.101)\, ISTA
ORGANIZER:cpetz@ist.ac.at
SUMMARY:Dan Lacks: Contact Electrification -- why is something seemingly so
  simple so poorly understood?
URL:https://talks-calendar.ista.ac.at/events/3837
END:VEVENT
END:VCALENDAR
