BEGIN:VCALENDAR
VERSION:2.0
PRODID:icalendar-ruby
CALSCALE:GREGORIAN
METHOD:PUBLISH
BEGIN:VTIMEZONE
TZID:Europe/Vienna
BEGIN:DAYLIGHT
DTSTART:20230326T030000
TZOFFSETFROM:+0100
TZOFFSETTO:+0200
RRULE:FREQ=YEARLY;BYDAY=-1SU;BYMONTH=3
TZNAME:CEST
END:DAYLIGHT
BEGIN:STANDARD
DTSTART:20221030T020000
TZOFFSETFROM:+0200
TZOFFSETTO:+0100
RRULE:FREQ=YEARLY;BYDAY=-1SU;BYMONTH=10
TZNAME:CET
END:STANDARD
END:VTIMEZONE
BEGIN:VEVENT
DTSTAMP:20260424T052349Z
UID:1670841000@ist.ac.at
DTSTART:20221212T113000
DTEND:20221212T123000
DESCRIPTION:Speaker: Alon Orlitsky\nhosted by Marco Mondelli
LOCATION:Raiffeisen Lecture Hall\, ISTA
ORGANIZER:arinya.eller@ist.ac.at
SUMMARY:Alon Orlitsky: Institute Colloquium: Alon Orlitsky (Tel Aviv Univer
 sity)
URL:https://talks-calendar.ista.ac.at/events/3827
END:VEVENT
END:VCALENDAR
