BEGIN:VCALENDAR
VERSION:2.0
PRODID:icalendar-ruby
CALSCALE:GREGORIAN
METHOD:PUBLISH
BEGIN:VTIMEZONE
TZID:Europe/Vienna
BEGIN:DAYLIGHT
DTSTART:20220327T030000
TZOFFSETFROM:+0100
TZOFFSETTO:+0200
RRULE:FREQ=YEARLY;BYDAY=-1SU;BYMONTH=3
TZNAME:CEST
END:DAYLIGHT
BEGIN:STANDARD
DTSTART:20221030T020000
TZOFFSETFROM:+0200
TZOFFSETTO:+0100
RRULE:FREQ=YEARLY;BYDAY=-1SU;BYMONTH=10
TZNAME:CET
END:STANDARD
END:VTIMEZONE
BEGIN:VEVENT
DTSTAMP:20260424T114203Z
UID:1657522800@ist.ac.at
DTSTART:20220711T090000
DTEND:20220711T103000
DESCRIPTION:Abstract: Wir freuen uns\, Sie zur Eröffnung der Michael-Gröl
 ler-Fußgängerbrücke am 11. Juli 2022\, um 9:00 Uhr\, am Institute of Sc
 ience and Technology Austria einladen zu dürfen!Die Fußgängerbrücke ü
 ber die B14 verbindet das Technologiezentrum am IST Park mit dem ISTA-Camp
 us und ist in Anerkennung und Würdigung seiner langjährigen Unterstützu
 ng nach dem österreichischen Unternehmer Michael Gröller benannt. Als b
 esondere Ehrengäste dürfen wir begrüßen: Martin Polaschek\, Bundesmin
 ister für Bildung\, Wissenschaft und ForschungJohanna Mikl-Leitner\, Land
 eshauptfrau Stefan Schmuckenschlager\, Bürgermeister Claus Raidl\, Kura
 toriumsvorsitzender Institute of Science and Technology Austria AnreiseN
 achdem Parkplätze limitiert sind empfehlen wir die Anreise mit dem ISTA S
 huttle Bus (Linie 142) oder mit der öffentlichen Linie 400. Weitere Infor
 mationen unter      www.ist.ac.at/campus/anreise (http://www.ist.ac.at/
 campus/anreise)  
LOCATION:IST Park\, Plöcking 1\, 3400 Klosterneuburg\, ISTA
ORGANIZER:christina.philippi@ist.ac.at
SUMMARY:Eröffnung Michael-Gröller-Brücke
URL:https://talks-calendar.ista.ac.at/events/3820
END:VEVENT
END:VCALENDAR
