BEGIN:VCALENDAR
VERSION:2.0
PRODID:icalendar-ruby
CALSCALE:GREGORIAN
METHOD:PUBLISH
BEGIN:VTIMEZONE
TZID:Europe/Vienna
BEGIN:DAYLIGHT
DTSTART:20220327T030000
TZOFFSETFROM:+0100
TZOFFSETTO:+0200
RRULE:FREQ=YEARLY;BYDAY=-1SU;BYMONTH=3
TZNAME:CEST
END:DAYLIGHT
BEGIN:STANDARD
DTSTART:20221030T020000
TZOFFSETFROM:+0200
TZOFFSETTO:+0100
RRULE:FREQ=YEARLY;BYDAY=-1SU;BYMONTH=10
TZNAME:CET
END:STANDARD
END:VTIMEZONE
BEGIN:VEVENT
DTSTAMP:20260424T052111Z
UID:1662534000@ist.ac.at
DTSTART:20220907T090000
DTEND:20220908T170000
DESCRIPTION:Abstract: SLC13A5 International Research Roundtable\, IST Austr
 ia (September 7-8\, 2022)We are excited to bring the SLC13A5 research com
 munity together to discuss current SLC13A5 research\, learn from research 
 from other transporters\, and identify ways to collaborate.We look forward
  to seeing you soon!Research topics include:Clinical Overview of SLC13A5 C
 itrate Transporter DisorderUnderstanding the disease mechanism through ani
 mal models including Drosophila\, zebrafish\, and miceRole of Patient-Deri
 ved IPSCsBiomarkers for SLC13A5 Citrate Transporter DisorderGene Therapy f
 or SLC13A5 Citrate Transporter DisorderSmall Molecules and Repurposed Drug
  Screening for SLC13A5 Citrate Transporter Disorder.Please email tanya@te
 ssfoundation.org (mailto:tanya@tessfoundation.org) or kim@tessfoundation
 .org (mailto:kim@tessfoundation.org) with any questions.
LOCATION:ISTA\, am Campus 1\, 3400 Klosterneuburg\, ISTA
ORGANIZER:
SUMMARY:SLC13a5 Epilepsy Conference
URL:https://talks-calendar.ista.ac.at/events/3716
END:VEVENT
END:VCALENDAR
