BEGIN:VCALENDAR
VERSION:2.0
PRODID:icalendar-ruby
CALSCALE:GREGORIAN
METHOD:PUBLISH
BEGIN:VTIMEZONE
TZID:Europe/Vienna
BEGIN:DAYLIGHT
DTSTART:20230326T030000
TZOFFSETFROM:+0100
TZOFFSETTO:+0200
RRULE:FREQ=YEARLY;BYDAY=-1SU;BYMONTH=3
TZNAME:CEST
END:DAYLIGHT
BEGIN:STANDARD
DTSTART:20231029T020000
TZOFFSETFROM:+0200
TZOFFSETTO:+0100
RRULE:FREQ=YEARLY;BYDAY=-1SU;BYMONTH=10
TZNAME:CET
END:STANDARD
END:VTIMEZONE
BEGIN:VEVENT
DTSTAMP:20260424T052354Z
UID:612f3252ab4bd870109821@ist.ac.at
DTSTART:20230426T123000
DTEND:20230426T133000
DESCRIPTION:Speaker: Susana Coelho\nhosted by Beatriz Vicoso\nAbstract: The
  brown algae (brown seaweeds) are fascinating organisms that evolved compl
 ex multicellularity independently of animals and plants. Over the last few
  years\, they have emerged as a highly valuable group to study the evoluti
 on of sex chromosomes and reproductive systems. I will describe how our la
 b has been using seaweeds to gain novel insights into the mechanisms and e
 volutionary trajectories of sex chromosomes and to reveal the functional a
 nd evolutionary interactions between the sex determination and key reprodu
 ctive and life cycle traits.
LOCATION:Cafeteria / O1 / Lakeside View (I22.O1.006)\, ISTA
ORGANIZER:apal@ist.ac.at
SUMMARY:Susana Coelho: Sex in the rockpools: uncovering the private life of
  seaweeds
URL:https://talks-calendar.ista.ac.at/events/3651
END:VEVENT
END:VCALENDAR
