BEGIN:VCALENDAR
VERSION:2.0
PRODID:icalendar-ruby
CALSCALE:GREGORIAN
METHOD:PUBLISH
BEGIN:VTIMEZONE
TZID:Europe/Vienna
BEGIN:DAYLIGHT
DTSTART:20230326T030000
TZOFFSETFROM:+0100
TZOFFSETTO:+0200
RRULE:FREQ=YEARLY;BYDAY=-1SU;BYMONTH=3
TZNAME:CEST
END:DAYLIGHT
BEGIN:STANDARD
DTSTART:20231029T020000
TZOFFSETFROM:+0200
TZOFFSETTO:+0100
RRULE:FREQ=YEARLY;BYDAY=-1SU;BYMONTH=10
TZNAME:CET
END:STANDARD
END:VTIMEZONE
BEGIN:VEVENT
DTSTAMP:20260424T040954Z
UID:612f3252ab4ac525582333@ist.ac.at
DTSTART:20230405T123000
DTEND:20230405T133000
DESCRIPTION:Speaker: Christelle Fraisse\nhosted by Beatriz Vicoso
LOCATION:I22 Lakeside View (I22.O1.006)\, ISTA
ORGANIZER:apal@ist.ac.at
SUMMARY:Christelle Fraisse: Genomic determinants of introgression outcomes:
  The case of dipteran sex chromosomes.
URL:https://talks-calendar.ista.ac.at/events/3648
END:VEVENT
END:VCALENDAR
