BEGIN:VCALENDAR
VERSION:2.0
PRODID:icalendar-ruby
CALSCALE:GREGORIAN
METHOD:PUBLISH
BEGIN:VTIMEZONE
TZID:Europe/Vienna
BEGIN:DAYLIGHT
DTSTART:20180325T030000
TZOFFSETFROM:+0100
TZOFFSETTO:+0200
RRULE:FREQ=YEARLY;BYDAY=-1SU;BYMONTH=3
TZNAME:CEST
END:DAYLIGHT
BEGIN:STANDARD
DTSTART:20171029T020000
TZOFFSETFROM:+0200
TZOFFSETTO:+0100
RRULE:FREQ=YEARLY;BYDAY=-1SU;BYMONTH=10
TZNAME:CET
END:STANDARD
END:VTIMEZONE
BEGIN:VEVENT
DTSTAMP:20260424T084506Z
UID:577e10e44c3c1487610630@ist.ac.at
DTSTART:20171218T160000
DTEND:20171218T170000
DESCRIPTION:Speaker: Cosma Shalizi\nhosted by Christoph Lampert
LOCATION:Raiffeisen Lecture Hall\, Central Building\, ISTA
ORGANIZER:kzaruba@ist.ac.at
SUMMARY:Cosma Shalizi: Learning to predict with dependent data
URL:https://talks-calendar.ista.ac.at/events/36
END:VEVENT
END:VCALENDAR
