BEGIN:VCALENDAR
VERSION:2.0
PRODID:icalendar-ruby
CALSCALE:GREGORIAN
METHOD:PUBLISH
BEGIN:VTIMEZONE
TZID:Europe/Vienna
BEGIN:DAYLIGHT
DTSTART:20220327T030000
TZOFFSETFROM:+0100
TZOFFSETTO:+0200
RRULE:FREQ=YEARLY;BYDAY=-1SU;BYMONTH=3
TZNAME:CEST
END:DAYLIGHT
BEGIN:STANDARD
DTSTART:20221030T020000
TZOFFSETFROM:+0200
TZOFFSETTO:+0100
RRULE:FREQ=YEARLY;BYDAY=-1SU;BYMONTH=10
TZNAME:CET
END:STANDARD
END:VTIMEZONE
BEGIN:VEVENT
DTSTAMP:20260424T153127Z
UID:1658732400@ist.ac.at
DTSTART:20220725T090000
DTEND:20220729T170000
DESCRIPTION:hosted by László Erdős\, Julian Fischer\, Jan Maas\, Robert 
 Seiringer\nAbstract: The Institute of Science and Technology Austria (IST 
 Austria) organizes a Summer School on hot topics of current research in an
 alysis and partial differential equations. It is the second summer school 
 in a bi-annual series on analysis and related areas held at IST Austria. T
 he event is aimed at a broad audience of researchers in these fields\, par
 ticularly focusing on PhD students and postdocs.The summer school takes pl
 ace at the campus of IST Austria\, a young international institute dedicat
 ed to basic research and graduate education in the natural and mathematica
 l sciences. The institute is located in Klosterneuburg on the outskirts of
  Vienna.The summer school will consist of three minicourses on important t
 opics of current research in analysis and partial differential equations. 
 The minicourses will be complemented with invited talks on related recent 
 developments.Lecturers:Felix Otto\, Max Planck Institute for Mathematics i
 n the Sciences Wilhelm Schlag\, Yale University László Székelyhidi\, 
 University of Leipzig In addition\, there will be several invited talks.
  Registration deadline is June 30\, 2022. However\, we reserve the right 
 to close registrations earlier if all spots are filled before the deadline
 . For more information please visit: https://summerschool-analysis.ist.a
 c.at/ 
LOCATION:IST Campus\, ISTA
ORGANIZER:alicja.swierczek@ist.ac.at
SUMMARY:2nd IST Austria Summer School in Analysis and PDEs
URL:https://talks-calendar.ista.ac.at/events/3550
END:VEVENT
END:VCALENDAR
