BEGIN:VCALENDAR
VERSION:2.0
PRODID:icalendar-ruby
CALSCALE:GREGORIAN
METHOD:PUBLISH
BEGIN:VTIMEZONE
TZID:Europe/Vienna
BEGIN:DAYLIGHT
DTSTART:20220327T030000
TZOFFSETFROM:+0100
TZOFFSETTO:+0200
RRULE:FREQ=YEARLY;BYDAY=-1SU;BYMONTH=3
TZNAME:CEST
END:DAYLIGHT
BEGIN:STANDARD
DTSTART:20221030T020000
TZOFFSETFROM:+0200
TZOFFSETTO:+0100
RRULE:FREQ=YEARLY;BYDAY=-1SU;BYMONTH=10
TZNAME:CET
END:STANDARD
END:VTIMEZONE
BEGIN:VEVENT
DTSTAMP:20260424T143348Z
UID:1659942000@ist.ac.at
DTSTART:20220808T090000
DTEND:20220819T160000
DESCRIPTION:hosted by ISTA Science Education Team\nAbstract: +++ Dieses Cam
 p ist bereits ausgebucht! +++Du bist Schüler:in an einer Volksschule und 
 fragst dich wie die Welt um dich herum funktioniert? Beim Sommercampus Kid
 s wirst du selbst zur Forscher:in\, machst spannende Experimente und lerns
 t Forscher:innen und ihre Arbeit an einem modernen Forschungsinstitut kenn
 en\, oder auch das Museum Gugging und das Stift Klosterneuburg!Damit du di
 r noch besser vorstellen kannst\, was beim Sommercampus Kids so passiert\,
  hier ein Video:> Sommercampus Kids Video (https://www.youtube.com/watch?v
 =pQ_hjPSaKFA)Entdecke die Welt der Biologie\, Geschichte\, Kunst\, Physik
 \, Robotik & Computerwissenschaft:- Biologie: Hast du gewusst\, dass du ei
 ne riesige Familie hast? Ja\, du bist mit Elefanten\, Fischen\, Bakterien\
 , und allen anderen Lebewesen verwandt! Hier erfährst du woher wir das wi
 ssen\, wie das funktioniert und lernst einige Lebewesen ganz genau kennen!
 - Geschichte: Welche Geheimnisse verstecken sich in der Schatzkammer und d
 er Bibliothek des Stifts Klosterneuburg? Finde es gemeinsam mit Geschichts
 forscher:innen des Stifts heraus! - Kunst: Welche Farben verstecken sich 
 im Licht und welche Formen entdeckst du unter dem Mikroskop? Du lässt dei
 ner Kreativität freien Lauf und gestaltest Kunstwerke bis hin zur Stadt d
 er Zukunft aus Karton und Verpackungsmaterial!- Physik: Hast du dich schon
  mal gefragt\, warum du eigentlich nicht bis zu den Wolken springen kannst
 ? In der Physik Schiene erforschst du wie Schwerkraft funktioniert\, wie w
 ir Menschen versuchen können ihr zu entkommen und startest deine eigene R
 akete!- Robotik & Computerwissenschaft: Hast du schon mal einen Staubsauge
 rroboter beobachtet? Wie macht der das\, dass er weiß wo er hinfährt? In
  dieser Gruppe baust und programmierst du deine eigenen Roboter und lernst
  dein erstes eigenes Computerspiel zu programmieren.Dieses Jahr bieten wir
  zwei Sommercampus Kids Camps an\, jeweils von 9-16 Uhr:- Sommercampus Kid
 s I (5-tägig) - Mo. 8. bis Fr. 12. August - € 150\,-- Sommercampus Kids
  II (4-tägig) - Di. 16. bis Fr. 19. August - € 120\,-Das Camp findet t
 äglich von 9-16 Uhr statt und inkludiert Mittagessen\, Getränke und Snac
 ks (kein Frühstück!).Das Sommercampus Kids Profil: 6-10 Jahre (abgesc
 hlossene 1.-4. Schulstufe)\, Interesse an Wissenschaft und Spaß am Auspro
 bieren!+++ Dieses Camp ist bereits ausgebucht! +++ Projektpartner:innen:
  Förderpartnerin:
LOCATION:ISTA Campus\, ISTA
ORGANIZER:sommercampus@ista.ac.at
SUMMARY:Sommercampus Kids
URL:https://talks-calendar.ista.ac.at/events/3514
END:VEVENT
END:VCALENDAR
