BEGIN:VCALENDAR
VERSION:2.0
PRODID:icalendar-ruby
CALSCALE:GREGORIAN
METHOD:PUBLISH
BEGIN:VTIMEZONE
TZID:Europe/Vienna
BEGIN:DAYLIGHT
DTSTART:20220327T030000
TZOFFSETFROM:+0100
TZOFFSETTO:+0200
RRULE:FREQ=YEARLY;BYDAY=-1SU;BYMONTH=3
TZNAME:CEST
END:DAYLIGHT
BEGIN:STANDARD
DTSTART:20221030T020000
TZOFFSETFROM:+0200
TZOFFSETTO:+0100
RRULE:FREQ=YEARLY;BYDAY=-1SU;BYMONTH=10
TZNAME:CET
END:STANDARD
END:VTIMEZONE
BEGIN:VEVENT
DTSTAMP:20260424T062856Z
UID:1666620000@ist.ac.at
DTSTART:20221024T160000
DTEND:20221024T170000
DESCRIPTION:Speaker: Judit Szulágyi\nhosted by Bingqing Cheng
LOCATION:Raiffeisen Lecture Hall\, ISTA
ORGANIZER:arinya.eller@ist.ac.at
SUMMARY:Judit Szulágyi: The Institute Colloquium: Judit Szulágyi (ETH Zur
 ich)
URL:https://talks-calendar.ista.ac.at/events/3461
END:VEVENT
END:VCALENDAR
