BEGIN:VCALENDAR
VERSION:2.0
PRODID:icalendar-ruby
CALSCALE:GREGORIAN
METHOD:PUBLISH
BEGIN:VTIMEZONE
TZID:Europe/Vienna
BEGIN:DAYLIGHT
DTSTART:20180325T030000
TZOFFSETFROM:+0100
TZOFFSETTO:+0200
RRULE:FREQ=YEARLY;BYDAY=-1SU;BYMONTH=3
TZNAME:CEST
END:DAYLIGHT
BEGIN:STANDARD
DTSTART:20171029T020000
TZOFFSETFROM:+0200
TZOFFSETTO:+0100
RRULE:FREQ=YEARLY;BYDAY=-1SU;BYMONTH=10
TZNAME:CET
END:STANDARD
END:VTIMEZONE
BEGIN:VEVENT
DTSTAMP:20260424T084642Z
UID:577e1055183b9674915323@ist.ac.at
DTSTART:20171204T160000
DTEND:20171204T170000
DESCRIPTION:Speaker: Jean-Michel Raimond\nhosted by Johannes Fink\nAbstract
 : The exploration of the puzzling features of the quantum\, like state sup
 erpositions\, entanglement or measurement processes is a thriving experime
 ntal field. It is driven by fascinating applications of the quantum\, like
  quantum metrology\, quantum information processing or quantum simulation.
 Rydberg atoms\, long-lived and extremely strongly coupled to external fiel
 ds\, are ideal tools to explore these basic quantum features. We will revi
 ew a few explorations of the quantum performed at Collège de France using
  these remarkable states.The strong interaction of circular Rydberg states
  with microwave fields in high quality superconducting cavities lead to id
 eal measurements of the photon number\, illustrating all postulate of quan
 tum measurement\, or to the generation of field states reminiscent of the 
 famous Schrödinger cat.  Coherent manipulations in the complex Rydberg m
 anifold lead to the observation of quantum Zeno dynamics and to the realiz
 ation of ultra-sensitive electric field measurements. Finally\, we will pr
 esent a quantum simulator project emulating spin chains with laser-trapped
  circular Rydberg atoms.
LOCATION:Raiffeisen Lecture Hall\, Central Building\, ISTA
ORGANIZER:kzaruba@ist.ac.at
SUMMARY:Jean-Michel Raimond: Quantum measurements and simulation with Rydbe
 rg atoms
URL:https://talks-calendar.ista.ac.at/events/34
END:VEVENT
END:VCALENDAR
