BEGIN:VCALENDAR
VERSION:2.0
PRODID:icalendar-ruby
CALSCALE:GREGORIAN
METHOD:PUBLISH
BEGIN:VTIMEZONE
TZID:Europe/Vienna
BEGIN:DAYLIGHT
DTSTART:20220327T030000
TZOFFSETFROM:+0100
TZOFFSETTO:+0200
RRULE:FREQ=YEARLY;BYDAY=-1SU;BYMONTH=3
TZNAME:CEST
END:DAYLIGHT
BEGIN:STANDARD
DTSTART:20221030T020000
TZOFFSETFROM:+0200
TZOFFSETTO:+0100
RRULE:FREQ=YEARLY;BYDAY=-1SU;BYMONTH=10
TZNAME:CET
END:STANDARD
END:VTIMEZONE
BEGIN:VEVENT
DTSTAMP:20260424T143345Z
UID:1654167600@ist.ac.at
DTSTART:20220602T130000
DTEND:20220602T140000
DESCRIPTION:Speaker: Youness Lamzouri\nhosted by Tim Browning\nAbstract: Fe
 kete polynomials are certain Littlewood type polynomials whose coefficient
 s are the values of the Legendre symbol\, or more generally the Kronecker 
 symbol. These polynomials were considered by Fekete in an attempt to under
 stand real zeros of Dirichlet L-functions in the critical strip. Since the
 n\, their zeros and value distribution have been extensively studied. In t
 his talk I will present some recent results concerning real zeros and the 
 Mahler measure of Fekete polynomials.  We shall also discuss applications
  to sign changes of quadratic character sums. This is a joint work with O.
  Klurman and M. Munsch.
LOCATION:Heinzel Seminar Room (I21.EG.101)\, Office Building West\, ISTA
ORGANIZER:birgit.oosthuizen-noczil@ist.ac.at
SUMMARY:Youness Lamzouri: Fekete polynomials : Real zeros\, Mahler measure\
 , and applications
URL:https://talks-calendar.ista.ac.at/events/3398
END:VEVENT
END:VCALENDAR
