BEGIN:VCALENDAR
VERSION:2.0
PRODID:icalendar-ruby
CALSCALE:GREGORIAN
METHOD:PUBLISH
BEGIN:VTIMEZONE
TZID:Europe/Vienna
BEGIN:DAYLIGHT
DTSTART:20180325T030000
TZOFFSETFROM:+0100
TZOFFSETTO:+0200
RRULE:FREQ=YEARLY;BYDAY=-1SU;BYMONTH=3
TZNAME:CEST
END:DAYLIGHT
BEGIN:STANDARD
DTSTART:20171029T020000
TZOFFSETFROM:+0200
TZOFFSETTO:+0100
RRULE:FREQ=YEARLY;BYDAY=-1SU;BYMONTH=10
TZNAME:CET
END:STANDARD
END:VTIMEZONE
BEGIN:VEVENT
DTSTAMP:20260424T125154Z
UID:5a61f68c64bd7075162259@ist.ac.at
DTSTART:20180308T100000
DTEND:20180308T110000
DESCRIPTION:Speaker: Bassam Atallah\nhosted by Maximilian Jösch\nAbstract:
  Learning to predict when and what will happen next is central to behaving
  adaptively. Make predictions is arguably the core function of the brain a
 s an organ. I will present work using two distinct behavioral tasks in mic
 e carefully designed to dissect neural correlate of prediction. Prediction
  of Time: Dopaminergic activity in the substantia nigra pars compacta pred
 icts and controls temporal judgments. These results hint towards why our p
 erception of time is modulated by hedonic state ('time flies when you are 
 having fun'). Prediction of a Sensory Sequence: Here I will share prelimin
 ary data that suggests even the earliest stages of our primal olfactory sy
 stem\, do not merely encode the world\, they integrate predictions only on
 e synapse from the periphery.
LOCATION:Mondi Seminar Room 2\, Central Building\, ISTA
ORGANIZER:pdelreal@ist.ac.at
SUMMARY:Bassam Atallah: Dissecting prediction in the brain
URL:https://talks-calendar.ista.ac.at/events/1129
END:VEVENT
END:VCALENDAR
