BEGIN:VCALENDAR
VERSION:2.0
PRODID:icalendar-ruby
CALSCALE:GREGORIAN
METHOD:PUBLISH
BEGIN:VTIMEZONE
TZID:Europe/Vienna
BEGIN:DAYLIGHT
DTSTART:20180325T030000
TZOFFSETFROM:+0100
TZOFFSETTO:+0200
RRULE:FREQ=YEARLY;BYDAY=-1SU;BYMONTH=3
TZNAME:CEST
END:DAYLIGHT
BEGIN:STANDARD
DTSTART:20171029T020000
TZOFFSETFROM:+0200
TZOFFSETTO:+0100
RRULE:FREQ=YEARLY;BYDAY=-1SU;BYMONTH=10
TZNAME:CET
END:STANDARD
END:VTIMEZONE
BEGIN:VEVENT
DTSTAMP:20260424T202023Z
UID:593e7ce54d8b4933046250@ist.ac.at
DTSTART:20180220T110000
DTEND:20180220T123000
DESCRIPTION:Speaker: Ervand Kandelaki\nhosted by Maksym Serbyn\nAbstract: P
 eriodic driving has recently attracted intense interest as a means for con
 trolling and investigating a variety of intriguing quantum many-body pheno
 mena. In particular\, driving has been proposed as a new route for alterin
 g the topological properties of Bloch bands. In this talk\, I will present
  our study of the transient dynamics in related periodically driven system
 s\, focusing on the role of interactions. I will describe the appearance a
 nd time-dependent renormalization of the effective (Floquet) band gap. In 
 addition\, I will discuss the time scales for the emergence of the Floquet
 -Bloch bands in the non-equilibrium correlation functions\, accessible in 
 ARPES experiments.
LOCATION:Big Seminar room Ground floor / Office Bldg West (I21.EG.101)\, IS
 TA
ORGANIZER:jdeanton@ist.ac.at
SUMMARY:Ervand Kandelaki: Many-body dynamics and gap opening in interacting
  periodically driven systems
URL:https://talks-calendar.ista.ac.at/events/1089
END:VEVENT
END:VCALENDAR
