BEGIN:VCALENDAR
VERSION:2.0
PRODID:icalendar-ruby
CALSCALE:GREGORIAN
METHOD:PUBLISH
BEGIN:VTIMEZONE
TZID:Europe/Vienna
BEGIN:DAYLIGHT
DTSTART:20180325T030000
TZOFFSETFROM:+0100
TZOFFSETTO:+0200
RRULE:FREQ=YEARLY;BYDAY=-1SU;BYMONTH=3
TZNAME:CEST
END:DAYLIGHT
BEGIN:STANDARD
DTSTART:20171029T020000
TZOFFSETFROM:+0200
TZOFFSETTO:+0100
RRULE:FREQ=YEARLY;BYDAY=-1SU;BYMONTH=10
TZNAME:CET
END:STANDARD
END:VTIMEZONE
BEGIN:VEVENT
DTSTAMP:20260424T141100Z
UID:5a4ccf01d49d1813283983@ist.ac.at
DTSTART:20180227T100000
DTEND:20180227T110000
DESCRIPTION:Speaker: Maria Antonietta Tosches\nhosted by Gaia Novarino\nAbs
 tract: The stunning complexity of the brain\, with its myriad of cell type
 s and circuits\, is nothing but the result of the evolutionary process. St
 udying brain evolution can thus provide general insights on brain organiza
 tion and function.The cerebral cortex underwent a dramatic expansion and d
 iversification in vertebrate evolution. With its six layers\, the neocorte
 x is a mammalian novelty that supports higher cognitive functions. By cont
 rast\, the cortex of reptiles has an ancestral three-layered organization.
  Do these anatomical differences obscure deeper similarities\, visible onl
 y at cellular and molecular levels? To address this\, we profiled cell typ
 es in the reptilian cortex with large-scale single-cell mRNA sequencing. I
 n this presentation\, I will illustrate how the quantitative comparison of
  single-cell transcriptomes across species elucidates the evolution of neo
 cortex\, hippocampus and amygdala\, brain regions involved in learning and
  memory\, spatial navigation and fear. This analysis leads to new hypothes
 es on the evolution of cortical development and function\, which will be t
 ested in the future with single-cell profiling and genome editing tools.
LOCATION:Big Seminar room Ground floor / Office Bldg West (I21.EG.101)\, IS
 TA
ORGANIZER:pdelreal@ist.ac.at
SUMMARY:Maria Antonietta Tosches: Evolution of the cerebral cortex at a sin
 gle-cell resolution
URL:https://talks-calendar.ista.ac.at/events/1070
END:VEVENT
END:VCALENDAR
