BEGIN:VCALENDAR
VERSION:2.0
PRODID:icalendar-ruby
CALSCALE:GREGORIAN
METHOD:PUBLISH
BEGIN:VTIMEZONE
TZID:Europe/Vienna
BEGIN:DAYLIGHT
DTSTART:20180325T030000
TZOFFSETFROM:+0100
TZOFFSETTO:+0200
RRULE:FREQ=YEARLY;BYDAY=-1SU;BYMONTH=3
TZNAME:CEST
END:DAYLIGHT
BEGIN:STANDARD
DTSTART:20171029T020000
TZOFFSETFROM:+0200
TZOFFSETTO:+0100
RRULE:FREQ=YEARLY;BYDAY=-1SU;BYMONTH=10
TZNAME:CET
END:STANDARD
END:VTIMEZONE
BEGIN:VEVENT
DTSTAMP:20260424T102141Z
UID:5a4b5559da6ce015003012@ist.ac.at
DTSTART:20180201T090000
DTEND:20180201T100000
DESCRIPTION:Speaker: Edward Laird\nhosted by Georgios Katsaros\nAbstract: N
 anomechanical resonators allow the boundary between classical and quantum 
 motion to be explored and exploited. Suspended carbon nanotubes\, vibratin
 g like tiny guitar strings\, are an outstanding experimental material beca
 use they combine low mass (leading to large zero-point motion)\, high spec
 ific stiffness (leading to large phonon energy)\, and high quality factor 
 (leading to long coherence times). Until now\, most measurements relied on
  electrical transport through the device\, but optomechanical experiments 
  exploiting resonant capacitive coupling to the nanotubes displacement  pr
 omise higher sensitivity and the possibility to manipulate the mechanical 
 state in new ways. I will show optomechanical measurements using a radio-f
 requency electrical circuit as a tuneable detector for the nanotubes vibra
 tions. I will discuss potential for using nanotube springs as ultra-sensit
 ive force transducers for nanoscale magnetic resonance. Finally\, I will p
 resent a proposal to verify quantum behaviour in a suspended resonator by 
 constructing an on-chip interferometer in which the entire nanotube\, cont
 aining a million nucleons\, forms the particle under test.
LOCATION:Big Seminar room Ground floor / Office Bldg West (I21.EG.101)\, IS
 TA
ORGANIZER:pdelreal@ist.ac.at
SUMMARY:Edward Laird: Vibrating nanotubes for quantum science and technolog
 y
URL:https://talks-calendar.ista.ac.at/events/1036
END:VEVENT
END:VCALENDAR
