BEGIN:VCALENDAR
VERSION:2.0
PRODID:icalendar-ruby
CALSCALE:GREGORIAN
METHOD:PUBLISH
BEGIN:VTIMEZONE
TZID:Europe/Vienna
BEGIN:DAYLIGHT
DTSTART:20180325T030000
TZOFFSETFROM:+0100
TZOFFSETTO:+0200
RRULE:FREQ=YEARLY;BYDAY=-1SU;BYMONTH=3
TZNAME:CEST
END:DAYLIGHT
BEGIN:STANDARD
DTSTART:20171029T020000
TZOFFSETFROM:+0200
TZOFFSETTO:+0100
RRULE:FREQ=YEARLY;BYDAY=-1SU;BYMONTH=10
TZNAME:CET
END:STANDARD
END:VTIMEZONE
BEGIN:VEVENT
DTSTAMP:20260424T123712Z
UID:5a324d975a17a755501498@ist.ac.at
DTSTART:20180306T130000
DTEND:20180306T143000
DESCRIPTION:Speaker: Elly Tanaka\nhosted by Ani Kicheva\nAbstract: Salamand
 er limb regeneration is a wonderful example of how tissues coordinate cell
  type identity with positional information to govern appropriate patternin
 g.  We have been working on understanding extracellular cues that initiate
  regeneration\, which cells respond\, and how differences in positional id
 entity and signalling centers are used to elicit limb regeneration.
LOCATION:Seminar Room\, Lab Building East\, ISTA
ORGANIZER:akicheva@ist.ac.at
SUMMARY:Elly Tanaka: Integrating tissue and positional identity during rege
 neration
URL:https://talks-calendar.ista.ac.at/events/1000
END:VEVENT
END:VCALENDAR
